BEGIN:VCALENDAR
VERSION:2.0
PRODID:-//Fun2sport - ECPv6.15.20//NONSGML v1.0//EN
CALSCALE:GREGORIAN
METHOD:PUBLISH
X-WR-CALNAME:Fun2sport
X-ORIGINAL-URL:https://www.fun2sport.fr
X-WR-CALDESC:Évènements pour Fun2sport
REFRESH-INTERVAL;VALUE=DURATION:PT1H
X-Robots-Tag:noindex
X-PUBLISHED-TTL:PT1H
BEGIN:VTIMEZONE
TZID:Europe/Paris
BEGIN:DAYLIGHT
TZOFFSETFROM:+0100
TZOFFSETTO:+0200
TZNAME:CEST
DTSTART:20250330T010000
END:DAYLIGHT
BEGIN:STANDARD
TZOFFSETFROM:+0200
TZOFFSETTO:+0100
TZNAME:CET
DTSTART:20251026T010000
END:STANDARD
BEGIN:DAYLIGHT
TZOFFSETFROM:+0100
TZOFFSETTO:+0200
TZNAME:CEST
DTSTART:20260329T010000
END:DAYLIGHT
BEGIN:STANDARD
TZOFFSETFROM:+0200
TZOFFSETTO:+0100
TZNAME:CET
DTSTART:20261025T010000
END:STANDARD
BEGIN:DAYLIGHT
TZOFFSETFROM:+0100
TZOFFSETTO:+0200
TZNAME:CEST
DTSTART:20270328T010000
END:DAYLIGHT
BEGIN:STANDARD
TZOFFSETFROM:+0200
TZOFFSETTO:+0100
TZNAME:CET
DTSTART:20271031T010000
END:STANDARD
END:VTIMEZONE
BEGIN:VEVENT
DTSTART;VALUE=DATE:20260111
DTEND;VALUE=DATE:20261214
DTSTAMP:20260422T163048
CREATED:20250708T060502Z
LAST-MODIFIED:20260115T161153Z
UID:5929-1768089600-1797206399@www.fun2sport.fr
SUMMARY:MTB E-Bike & Wine Tour Romagna "Mare & Monti"
DESCRIPTION:MTB E-Bike & Wine Tour Romagna "Mare & Monti" 				\n\n						\n				\n				\n		\n				\n					Accueil » Évènements » Séjours accompagnés » MTB E-Bike & Wine Tour Romagna « Mare & Monti » 				\n				\n		\n		\n				\n					Autour de Riolo				\n				\n		\n				\n									Savourer le magnifique arrière-pays romagnol autour de Riolo Terme et s’enthousiasmer des plaisirs du bord de mer à Cattolica. Nous vous avons concocté un délicieux séjour « Mare & Monti »\, entièrement personnalisable selon vos envies : en vélo de route\, en VTT ou en E-Bike\, avec la possibilité d’inclure de belles journées de marche à pied ou d’autres activités de votre choix. Ce séjour est une véritable invitation au plaisir et à la détente\, agrémenté de délicieuses dégustations des spécialités locales. Vous bénéficierez d’un hébergement de qualité exceptionnelle : le premier dans un somptueux parc botanique\, doté de piscines\, d’un SPA\, de terrains de tennis et de salles de fitness équipées de matériel Technogym. Nous vous emmènerons également à la découverte des trésors de la région : paysages à couper le souffle\, curiosités culturelles\, et domaines viticoles prestigieux. Sans aucun doute\, vous tomberez sous le charme d’une région qui conjugue toutes les facettes du plaisir pour une expérience inoubliable ! 								\n				\n				\n		\n				\n			\n	\n		\n		\n				\n					\n		\n							\n											\n						Hôtel 3 ★★★						\n					\n											\n							Chambre double demi-pension						\n									\n			\n			\n																	\n						695.00					\n				\n				\n				&#128;\n									6 nuits / personne							\n\n							\n											\n							\n																									\n										3 nuits GH Riolo Terme / 3 nuits Hôtel Ancora									\n																\n						\n											\n							\n																									\n										6 nuitées									\n																\n						\n											\n							\n																									\n										6 petits déjeuner									\n																\n						\n											\n							\n																									\n										6 dîners (1 verre de vin + eau)									\n																\n						\n											\n							\n																									\n										6 paniers repas ou déjeuners									\n																\n						\n											\n							\n																									\n										6 sortie guidées ou libres									\n																\n						\n											\n							\n																									\n										groupe de niveau pour les sorties									\n																\n						\n											\n							\n																									\n										Piscine chauffée									\n																\n						\n											\n							\n																									\n										20 participants minimum									\n																\n						\n									\n			\n					\n\n						\n				\n		\n				\n					\n		\n							\n											\n						Hôtel 3 ★★★						\n					\n											\n							Chambre single demi-pension						\n									\n			\n			\n																	\n						865.00					\n				\n				\n				&#128;\n									6 nuits / personne							\n\n							\n											\n							\n																									\n										3 nuits GH Riolo Terme / 3 nuits Hôtel Ancora									\n																\n						\n											\n							\n																									\n										6 petits nuitées									\n																\n						\n											\n							\n																									\n										6 petits déjeuner									\n																\n						\n											\n							\n																									\n										6 dîners (1 verre de vin + eau)									\n																\n						\n											\n							\n																									\n										6 paniers repas ou déjeuners									\n																\n						\n											\n							\n																									\n										6 sortie guidées ou libres									\n																\n						\n											\n							\n																									\n										groupe de niveau pour les sorties									\n																\n						\n											\n							\n																									\n										Piscine chauffée									\n																\n						\n											\n							\n																									\n										20 participants minimum									\n																\n						\n									\n			\n					\n\n						\n				\n				\n		\n		\n				\n					\n		\n					ALBUM PHOTOS 				\n\n						\n				\n							\n			\n											\n												\n											\n					\n											\n				\n									\n						\n				\n					\n		\n					les différentes étapes entre mer et montagne 				\n\n						\n				\n							\n\n\n\n	ÉTAPEDescriptionDistance - DéniveléVélo routeVAEDifficulté\n\n\n\n\n	Etape 1MTB E-Bike Tour Riolo Terme - Imola\n\nMagnifique Tour dans les collines autour de Riolo Terme par les collines de la Galisterna\, des vues spectaculaires sur les calanques\, et possible de visiter le circuit F1 d'Imola. Avant le retour\, on vous prévoit une visite et dégustation au sein d'un très beau domaine viticole.45 km Den+ 600\n\n\n	Etape 2E-Bike Tour vers Brisighella\n\nBelle randonnée pédestre dans les collines romagnoles\, un joli parcours tantôt dans les bois\, tantôt dans les vignes et sentiers qui vous offrira des vues imprenables.12 km Den+ 500\n\n\n	Etape 3MTB E-Bike le Delta de Po Comacchio\n\nle terrain est plat\, mais un vrai spectacle de rouler sur la bande de terre qui mène vers Comacchio\, avec ses nombreux flamands roses. 30 km Den+ 500\n\n\n	Etape 4E-Bike Tour San Marino\n\nRandonnée pédestre atour de la Montagne de la République San Marino avec des vues à couper le souffle.15 km Den+ 500\n\n\n	Etape 5MTB E-Bike Tour Strada Panoramica\n\nPour finir\, nous vous emmenons sur la fameuse Strada Panoramica qui surplombe le littoral\, des vues imprenables tout au long du parcours\, magique!60 km Den+ 600\n\n\n\n\n						\n				\n		\n				\n				\n					\n	\n	Date et heure :	\n			11/01/2026\n\n		\n	\n	  -  \n\n	13/12/2026\n\n	\n				\n				\n				\n					options				\n				\n								\n				\n							\n								\n																			\n																						\n									\n									\n										 location vélo VAE 																			\n								\n\n								\n								\n							\n\n										\n						\n				\n				\n					\n				\n				\n	\n	Émilie Romagne\n	\n	\n\n\n	Bologne\,\n\n\n	40100\n\n	Italy\n\n\n\n\n	+ Google Map \n\n\n	\n	Voir Lieu site web \n\n\n\n	\n\n		\n	\n				\n				\n				\n				\n					\n	\n		\n\n	\n	Ajouter au calendrier	\n		\n	\n\n		\n			\n									\n	Google Agenda\n\n									\n	iCalendar\n\n									\n	Outlook 365\n\n									\n	Outlook Live\n\n							\n		\n\n		\n	\n\n				\n				\n				\n				\n							\n				\n				\n			\n		\n				\n				\n			\n				Gravel Camp Fabien Canal à Kaysersberg avec Horizons d’Alsace			\n		\n					\n		\n		\n			consultez		\n\n					\n				\n				\n				\n				\n			\n		\n				\n				\n			\n				Granfondo le Strade Bianche			\n		\n					\n		\n		\n			consultez		\n\n					\n				\n				\n				\n				\n			\n		\n				\n				\n			\n				Côte d’Azur et Pays Varois			\n		\n					\n		\n		\n			consultez		\n\n					\n				\n				\n				\n				\n			\n		\n				\n				\n			\n				De Bâle à Strasbourg par le Vignoble d’Alsace			\n		\n					\n		\n		\n			consultez		\n\n					\n				\n				\n				\n				\n			\n		\n				\n				\n			\n				La Côte des Étrusques			\n		\n					\n		\n		\n			consultez		\n\n					\n				\n				\n				\n					\n							\n		\n				\n				\n			\n						\n									chargez +\n					\n					\n		\n				fin des publications\n						\n				\n				\n					\n\n		\n			\n				\n																																	\n									\n						réserver le séjour					\n							\n\n			\n			\n			\n		\n\n\n						\n				\n				\n		\n				\n							\n							\n					\n				\n			\n			\n									\n						\n							Alain LAMY						\n					\n				\n									\n						Organisateur \n					\n				\n							\n		\n						\n				\n							\n							\n					\n						Facebook-f\n											\n				\n							\n					\n						Youtube\n											\n				\n							\n					\n						Instagram\n											\n				\n					\n						\n				\n							\n								\n						\n											\n															\n									\n										fun2sport Admin					\n									\n				\n				\n						\n											\n															\n									\n										+33634108302					\n									\n				\n				\n										\n															\n									\n										\n				EMILIE ROMAGNE\, ITALIE				\n					\n								\n				\n										\n															\n									\n										\n				Séjours accompagnés\, VAE\, VTT				\n					\n								\n				\n						\n				\n				\n					\n	« Tous les Évènements\n 				\n				\n				\n		\n		\n				\n				\n					\n	\n		\n\n				Salento Gourmet Tour	\n\n\n		\n	\n		Granfondo - Degli Squali			\n\n	\n\n				\n				\n				\n				\n		\n				\n			\n	\n		\n				\n			\n	\n		\n		\n				\n																														\n				\n					\n		\n					Autour de Riolo "Mare et Monti" 				\n\n						\n				\n					\n\n		\n			\n				\n									\n						réservez
URL:https://www.fun2sport.fr/destination/mtb-e-bike-wine-tour-romagna-mare-monti/
LOCATION:Émilie Romagne\, Bologne\, 40100\, Italy
CATEGORIES:EMILIE ROMAGNE,ITALIE
ATTACH;FMTTYPE=image/jpeg:https://www.fun2sport.fr/wp-content/uploads/2023/11/MTB-Bike-3.jpg
ORGANIZER;CN="fun2sport":MAILTO:alain.lamy@funs2sport.fr
END:VEVENT
END:VCALENDAR